BEGIN:VCALENDAR
VERSION:2.0
PRODID:-//eventon.com NONSGML v1.0//EN
BEGIN:VEVENT
UID:69e5eeaa24ea9
DTSTAMP:20260420T091522
DTSTART:20230926T110000Z
DTEND:20230926T130000Z
LOCATION:Richmond Virginia location 
SUMMARY:CLEP Proctored Test..
DESCRIPTION: What Is It? The College-Level Examination Program® (CLEP) helps you receive college credit for what you already know\,  for a fraction of the cost of a college course. Developed by the College Board\,  CLEP is the most widely accepted credit-by-examination program\,  available at more than 2\, 900 colleges and universities. Pass[..]
END:VEVENT
END:VCALENDAR