BEGIN:VCALENDAR
VERSION:2.0
PRODID:-//eventon.com NONSGML v1.0//EN
BEGIN:VEVENT
UID:69eb2d20c6061
DTSTAMP:20260424T084312
DTSTART:20260810T120000Z
DTEND:20260810T130000Z
LOCATION:Chantilly Virginia Location 
SUMMARY:ParaPro -Testing
DESCRIPTION: What Is It? The College-Level Examination Program® (CLEP) helps you receive college credit for what you already know\,  for a fraction of the cost of a college course. Developed by the College Board\,  CLEP is the most widely accepted credit-by-examination program\,  available at more than 2\, 900 colleges and universities. Pass[..]
END:VEVENT
END:VCALENDAR